BEGIN:VCALENDAR
VERSION:2.0
PRODID:-//Gesundes Hanau e.V. - ECPv6.15.20//NONSGML v1.0//EN
CALSCALE:GREGORIAN
METHOD:PUBLISH
X-WR-CALNAME:Gesundes Hanau e.V.
X-ORIGINAL-URL:https://gesundes-hanau.de
X-WR-CALDESC:Veranstaltungen für Gesundes Hanau e.V.
REFRESH-INTERVAL;VALUE=DURATION:PT1H
X-Robots-Tag:noindex
X-PUBLISHED-TTL:PT1H
BEGIN:VTIMEZONE
TZID:Europe/Berlin
BEGIN:DAYLIGHT
TZOFFSETFROM:+0100
TZOFFSETTO:+0200
TZNAME:CEST
DTSTART:20250330T010000
END:DAYLIGHT
BEGIN:STANDARD
TZOFFSETFROM:+0200
TZOFFSETTO:+0100
TZNAME:CET
DTSTART:20251026T010000
END:STANDARD
BEGIN:DAYLIGHT
TZOFFSETFROM:+0100
TZOFFSETTO:+0200
TZNAME:CEST
DTSTART:20260329T010000
END:DAYLIGHT
BEGIN:STANDARD
TZOFFSETFROM:+0200
TZOFFSETTO:+0100
TZNAME:CET
DTSTART:20261025T010000
END:STANDARD
BEGIN:DAYLIGHT
TZOFFSETFROM:+0100
TZOFFSETTO:+0200
TZNAME:CEST
DTSTART:20270328T010000
END:DAYLIGHT
BEGIN:STANDARD
TZOFFSETFROM:+0200
TZOFFSETTO:+0100
TZNAME:CET
DTSTART:20271031T010000
END:STANDARD
END:VTIMEZONE
BEGIN:VEVENT
DTSTART;TZID=Europe/Berlin:20260528T183000
DTEND;TZID=Europe/Berlin:20260528T203000
DTSTAMP:20260421T131208
CREATED:20251215T140928Z
LAST-MODIFIED:20260124T114506Z
UID:4417-1779993000-1780000200@gesundes-hanau.de
SUMMARY:Rückengesundheit – Möglichkeiten / Methoden zur Rücken- und Rumpfstabilisierung
DESCRIPTION:Impulsvortrag von und mit \nStefan Kuschmann – MorethanTraining Hanau \nÄrztlich geprüfter Personal Trainer\, Master Coach ICI/DVNLP \nSie erfahren in diesem Vortrag einen Überblick über die Ursachen von Rückenbeschwerden und die Grundlagen der Rumpfstabilisierung\, Außerdem die häufigsten Ursachen und Leiden im Zusammenhang mit Rückenschmerzen\, die größten Irrtümer im Umgang mit dem Rücken\, welche Rolle die Muskeln spielen\, wie Sie mit einfachen Mitteln Rückenschmerzen reduzieren können\, was die Big 3 für den Rücken sind\, welche praktischen Übungen den Rumpf effektiv stabilisieren und welche Tipps und Tricks Sie im Alltag anwenden können. \nWir freuen uns auf Ihre Teilnahme und Ihren Austausch.
URL:https://gesundes-hanau.de/veranstaltung/rueckengesundheit-moeglichkeiten-methoden-zur-ruecken-und-rumpfstabilisierung/
LOCATION:Kulturforum Hanau\, Am Freiheitsplatz 18a\, Hanau\, 63450\, Germany
CATEGORIES:Gesundheitstalk
END:VEVENT
END:VCALENDAR