BEGIN:VCALENDAR
VERSION:2.0
PRODID:-//Gesundes Hanau e.V. - ECPv6.15.20//NONSGML v1.0//EN
CALSCALE:GREGORIAN
METHOD:PUBLISH
X-ORIGINAL-URL:https://gesundes-hanau.de
X-WR-CALDESC:Veranstaltungen für Gesundes Hanau e.V.
REFRESH-INTERVAL;VALUE=DURATION:PT1H
X-Robots-Tag:noindex
X-PUBLISHED-TTL:PT1H
BEGIN:VTIMEZONE
TZID:Europe/Berlin
BEGIN:DAYLIGHT
TZOFFSETFROM:+0100
TZOFFSETTO:+0200
TZNAME:CEST
DTSTART:20240331T010000
END:DAYLIGHT
BEGIN:STANDARD
TZOFFSETFROM:+0200
TZOFFSETTO:+0100
TZNAME:CET
DTSTART:20241027T010000
END:STANDARD
BEGIN:DAYLIGHT
TZOFFSETFROM:+0100
TZOFFSETTO:+0200
TZNAME:CEST
DTSTART:20250330T010000
END:DAYLIGHT
BEGIN:STANDARD
TZOFFSETFROM:+0200
TZOFFSETTO:+0100
TZNAME:CET
DTSTART:20251026T010000
END:STANDARD
BEGIN:DAYLIGHT
TZOFFSETFROM:+0100
TZOFFSETTO:+0200
TZNAME:CEST
DTSTART:20260329T010000
END:DAYLIGHT
BEGIN:STANDARD
TZOFFSETFROM:+0200
TZOFFSETTO:+0100
TZNAME:CET
DTSTART:20261025T010000
END:STANDARD
END:VTIMEZONE
BEGIN:VEVENT
DTSTART;TZID=Europe/Berlin:20251127T183000
DTEND;TZID=Europe/Berlin:20251127T200000
DTSTAMP:20260423T152239
CREATED:20250506T074518Z
LAST-MODIFIED:20251215T143302Z
UID:4034-1764268200-1764273600@gesundes-hanau.de
SUMMARY:Mit Bedacht planen: Patientenverfügung und Vorsorgevollmacht im Fokus
DESCRIPTION:Impulsvortrag von und mit Nadja Nickel\, \nNotarin und Rechtanwältin\, Nickel – Nickel – Schächtele\, Hanau \nIn diesem Vortrag wird Ihnen die Bedeutung von Patientenverfügungen und Vorsorgevollmachten nähergebracht. Diese Dokumente sind entscheidend\, um im Falle einer schweren Erkrankung oder Entscheidungsunfähigkeit sicherzustellen\, dass Ihre Wünsche respektiert werden. \nUnsere Expertin erklärt\, was eine Patientenverfügung ist und welche Inhalte Berücksichtigung finden. Ebenso werden Details und Unterschiede der Vorsorgevollmacht gegenüber der Patientenverfügung herausgestellt; insbesondere die der persönlichen Entscheidungsfreiheit. Notarin Nadja Nickel gibt praktische Tipps zur Erstellung: Wie Sie Ihre Wünsche klar und rechtssicher formulieren können. \nNutzen Sie das kostenfreie Informationsangebot mit ausreichend Zeit für persönliche Fragen.
URL:https://gesundes-hanau.de/veranstaltung/mit-bedacht-planen-patientenverfuegung-und-vorsorgevollmacht-im-fokus/
LOCATION:Kulturforum Hanau\, Am Freiheitsplatz 18a\, Hanau\, 63450\, Germany
CATEGORIES:Gesundheitstalk
ATTACH;FMTTYPE=image/jpeg:https://gesundes-hanau.de/wp-content/uploads/2025/05/Flyer-Patientenverfuegung-432x540-1.jpg
ORGANIZER;CN="Gesundes Hanau":MAILTO:info@gesundes-hanau.de
END:VEVENT
END:VCALENDAR